BEGIN:VCALENDAR
VERSION:2.0
PRODID:-//Italy on display - ECPv6.8.0//NONSGML v1.0//EN
CALSCALE:GREGORIAN
METHOD:PUBLISH
X-WR-CALNAME:Italy on display
X-ORIGINAL-URL:https://italyondisplay.it
X-WR-CALDESC:Eventi per Italy on display
REFRESH-INTERVAL;VALUE=DURATION:PT1H
X-Robots-Tag:noindex
X-PUBLISHED-TTL:PT1H
BEGIN:VTIMEZONE
TZID:UTC
BEGIN:STANDARD
TZOFFSETFROM:+0000
TZOFFSETTO:+0000
TZNAME:UTC
DTSTART:20250101T000000
END:STANDARD
TZID:Europe/Rome
BEGIN:DAYLIGHT
TZOFFSETFROM:+0100
TZOFFSETTO:+0200
TZNAME:CEST
DTSTART:20250330T010000
END:DAYLIGHT
BEGIN:STANDARD
TZOFFSETFROM:+0200
TZOFFSETTO:+0100
TZNAME:CET
DTSTART:20251026T010000
END:STANDARD
END:VTIMEZONE
BEGIN:VEVENT
DTSTART;VALUE=DATE:20250411
DTEND;VALUE=DATE:20251020
DTSTAMP:20260420T013826
CREATED:20250416T025423Z
LAST-MODIFIED:20250608T031622Z
UID:10000011-1744329600-1760918399@italyondisplay.it
SUMMARY:HUGO PRATT. GEOGRAFIE IMMAGINARIE
DESCRIPTION:300 opere originali raccontano l’universo e il percorso evolutivo dell’artista nella più grande mostra monografica a lui dedicata
URL:https://italyondisplay.it/event/hugo-pratt-geografie-immaginarie/
LOCATION:PALAZZO DELLE PAPESSE |\, Via Città di Siena\, 126\, Siena\, Toscana\, Italy
CATEGORIES:Arte, mostre & musei
ATTACH;FMTTYPE=image/webp:https://italyondisplay.it/wp-content/uploads/2025/04/Hugo-Pratt-Corto-Maltese-e1749356734732.webp
END:VEVENT
BEGIN:VEVENT
DTSTART;VALUE=DATE:20250717
DTEND;VALUE=DATE:20251103
DTSTAMP:20260420T013826
CREATED:20250720T084916Z
LAST-MODIFIED:20250720T084916Z
UID:10000094-1752710400-1762127999@italyondisplay.it
SUMMARY:CORTONA ON THE MOVE 15
DESCRIPTION:La 15ᴬ edizione esplora gli spazi di rottura e di riparazione\, di conflitto e di unità attraverso 23 mostre e lo sguardo di 76 artisti nazionali e internazionali.
URL:https://italyondisplay.it/event/cortona-on-the-move-15/
LOCATION:CORTONA CENTRO STORICO |\, Piazza della Repubblica\, Cortona\, Toscana\, Italy
CATEGORIES:Arte, mostre & musei
ATTACH;FMTTYPE=image/webp:https://italyondisplay.it/wp-content/uploads/2025/07/©-Yael-Martinez-Magnum-Photos-scaled-e1753001507375.webp
END:VEVENT
END:VCALENDAR