BEGIN:VCALENDAR
VERSION:2.0
PRODID:-//Italy on display - ECPv6.8.0//NONSGML v1.0//EN
CALSCALE:GREGORIAN
METHOD:PUBLISH
X-ORIGINAL-URL:https://italyondisplay.it
X-WR-CALDESC:Eventi per Italy on display
REFRESH-INTERVAL;VALUE=DURATION:PT1H
X-Robots-Tag:noindex
X-PUBLISHED-TTL:PT1H
BEGIN:VTIMEZONE
TZID:UTC
BEGIN:STANDARD
TZOFFSETFROM:+0000
TZOFFSETTO:+0000
TZNAME:UTC
DTSTART:20250101T000000
END:STANDARD
TZID:Europe/Rome
BEGIN:DAYLIGHT
TZOFFSETFROM:+0100
TZOFFSETTO:+0200
TZNAME:CEST
DTSTART:20250330T010000
END:DAYLIGHT
BEGIN:STANDARD
TZOFFSETFROM:+0200
TZOFFSETTO:+0100
TZNAME:CET
DTSTART:20251026T010000
END:STANDARD
END:VTIMEZONE
BEGIN:VEVENT
DTSTART;VALUE=DATE:20250919
DTEND;VALUE=DATE:20250923
DTSTAMP:20260421T190740
CREATED:20250323T171023Z
LAST-MODIFIED:20250429T020954Z
UID:10000006-1758240000-1758585599@italyondisplay.it
SUMMARY:CHEESE
DESCRIPTION:Ogni due anni\, i migliori artigiani del formaggio provenienti da tutto il mondo si ritrovano per presentare i propri prodotti
URL:https://italyondisplay.it/event/cheese/
LOCATION:BRA CENTRO STORICO |\, Bra\, Piemonte\, Italy
CATEGORIES:Enogastronomia
ATTACH;FMTTYPE=image/webp:https://italyondisplay.it/wp-content/uploads/2025/03/CHEESE-Archivio-Slow-Food-by-Paolo-Properzi.webp
END:VEVENT
BEGIN:VEVENT
DTSTART;VALUE=DATE:20250816
DTEND;VALUE=DATE:20250825
DTSTAMP:20260421T190740
CREATED:20250506T180027Z
LAST-MODIFIED:20250506T181549Z
UID:10000028-1755302400-1756079999@italyondisplay.it
SUMMARY:FIERA NAZIONALE DELLA NOCCIOLA
DESCRIPTION:Giunge alla 71° edizione la manifestazione si celebra la Regina dell’Alta Langa\, la Nocciola più buona del mondo\, la Tonda Gentile del Piemonte.
URL:https://italyondisplay.it/event/fiera-nazionale-della-nocciola/
LOCATION:CORTEMILIA CENTRO STORICO |\, Corso Einaudi\, 1\, Cortemilia\, Piemonte\, Italy
CATEGORIES:Enogastronomia
ATTACH;FMTTYPE=image/webp:https://italyondisplay.it/wp-content/uploads/2025/05/FIERA-NAZIONALE-DELLA-NOCCIOLA.webp
END:VEVENT
BEGIN:VEVENT
DTSTART;VALUE=DATE:20250803
DTEND;VALUE=DATE:20250804
DTSTAMP:20260421T190740
CREATED:20250705T050459Z
LAST-MODIFIED:20250705T050459Z
UID:10000080-1754208000-1754263800@italyondisplay.it
SUMMARY:MONFORTINJAZZ 25
DESCRIPTION:L’edizione 2025 di Monfortinjazz si svolge come sempre in uno dei borghi più belli d’Italia\, situato nel cuore delle Langhe del Barolo
URL:https://italyondisplay.it/event/monfortinjazz-25/2025-08-03/
LOCATION:AUDITORIUM HORSZOWSKI |\, Via del Carretto 16\, Monforte\, Piemonte\, Italy
CATEGORIES:Musica & teatro
ATTACH;FMTTYPE=image/webp:https://italyondisplay.it/wp-content/uploads/2025/07/Monforte-Auditorium-Horszowski-scaled.webp
END:VEVENT
BEGIN:VEVENT
DTSTART;VALUE=DATE:20250730
DTEND;VALUE=DATE:20250731
DTSTAMP:20260421T190740
CREATED:20250705T050459Z
LAST-MODIFIED:20250705T050459Z
UID:10000079-1753862400-1753918200@italyondisplay.it
SUMMARY:MONFORTINJAZZ 25
DESCRIPTION:L’edizione 2025 di Monfortinjazz si svolge come sempre in uno dei borghi più belli d’Italia\, situato nel cuore delle Langhe del Barolo
URL:https://italyondisplay.it/event/monfortinjazz-25/2025-07-30/
LOCATION:AUDITORIUM HORSZOWSKI |\, Via del Carretto 16\, Monforte\, Piemonte\, Italy
CATEGORIES:Musica & teatro
ATTACH;FMTTYPE=image/webp:https://italyondisplay.it/wp-content/uploads/2025/07/Monforte-Auditorium-Horszowski-scaled.webp
END:VEVENT
BEGIN:VEVENT
DTSTART;VALUE=DATE:20250720
DTEND;VALUE=DATE:20250721
DTSTAMP:20260421T190740
CREATED:20250705T050459Z
LAST-MODIFIED:20250705T050459Z
UID:10000078-1752998400-1753054200@italyondisplay.it
SUMMARY:MONFORTINJAZZ 25
DESCRIPTION:L’edizione 2025 di Monfortinjazz si svolge come sempre in uno dei borghi più belli d’Italia\, situato nel cuore delle Langhe del Barolo
URL:https://italyondisplay.it/event/monfortinjazz-25/2025-07-20/
LOCATION:AUDITORIUM HORSZOWSKI |\, Via del Carretto 16\, Monforte\, Piemonte\, Italy
CATEGORIES:Musica & teatro
ATTACH;FMTTYPE=image/webp:https://italyondisplay.it/wp-content/uploads/2025/07/Monforte-Auditorium-Horszowski-scaled.webp
END:VEVENT
BEGIN:VEVENT
DTSTART;VALUE=DATE:20250715
DTEND;VALUE=DATE:20250716
DTSTAMP:20260421T190740
CREATED:20250705T050459Z
LAST-MODIFIED:20250705T050459Z
UID:10000077-1752566400-1752622200@italyondisplay.it
SUMMARY:MONFORTINJAZZ 25
DESCRIPTION:L’edizione 2025 di Monfortinjazz si svolge come sempre in uno dei borghi più belli d’Italia\, situato nel cuore delle Langhe del Barolo
URL:https://italyondisplay.it/event/monfortinjazz-25/2025-07-15/
LOCATION:AUDITORIUM HORSZOWSKI |\, Via del Carretto 16\, Monforte\, Piemonte\, Italy
CATEGORIES:Musica & teatro
ATTACH;FMTTYPE=image/webp:https://italyondisplay.it/wp-content/uploads/2025/07/Monforte-Auditorium-Horszowski-scaled.webp
END:VEVENT
BEGIN:VEVENT
DTSTART;VALUE=DATE:20250715
DTEND;VALUE=DATE:20250916
DTSTAMP:20260421T190740
CREATED:20250719T045228Z
LAST-MODIFIED:20250719T045228Z
UID:10000092-1752537600-1757980799@italyondisplay.it
SUMMARY:DANTE GIACOSA
DESCRIPTION:In occasione del 120° anniversario della nascita del famoso progettista FIAT\, Stellantis Heritage inaugura una mostra temporanea che ripercorre le sue principali innovazioni tecniche
URL:https://italyondisplay.it/event/dante-giacosa/
LOCATION:HERITAGE HUB DI STELLANTIS\, Via Plava\, Torino\, Piemonte\, Italy
CATEGORIES:Motors & racing
ATTACH;FMTTYPE=image/webp:https://italyondisplay.it/wp-content/uploads/2025/07/Dante-Giacosa-Heritage-Hub-di-Stellantis-scaled.webp
END:VEVENT
BEGIN:VEVENT
DTSTART;VALUE=DATE:20250705
DTEND;VALUE=DATE:20250706
DTSTAMP:20260421T190740
CREATED:20250705T050459Z
LAST-MODIFIED:20250705T050459Z
UID:10000076-1751673600-1751759999@italyondisplay.it
SUMMARY:MONFORTINJAZZ 25
DESCRIPTION:L’edizione 2025 di Monfortinjazz si svolge come sempre in uno dei borghi più belli d’Italia\, situato nel cuore delle Langhe del Barolo
URL:https://italyondisplay.it/event/monfortinjazz-25/2025-07-05/
LOCATION:AUDITORIUM HORSZOWSKI |\, Via del Carretto 16\, Monforte\, Piemonte\, Italy
CATEGORIES:Musica & teatro
ATTACH;FMTTYPE=image/webp:https://italyondisplay.it/wp-content/uploads/2025/07/Monforte-Auditorium-Horszowski-scaled.webp
END:VEVENT
BEGIN:VEVENT
DTSTART;VALUE=DATE:20250703
DTEND;VALUE=DATE:20250707
DTSTAMP:20260421T190740
CREATED:20250704T052100Z
LAST-MODIFIED:20250704T052841Z
UID:10000052-1751500800-1751846399@italyondisplay.it
SUMMARY:ALBA JAZZ 2025
DESCRIPTION:Dagli USA all’India\, da Napoli a Cuba: questo è il viaggio tutto da vivere grazie alla 18esima edizione del Festival di Jazz
URL:https://italyondisplay.it/event/alba-jazz-2025/
LOCATION:ALBA CENTRO STORICO |\, Piazza Duomo\, Alba\, Piemonte\, Italy
CATEGORIES:Musica & teatro
ATTACH;FMTTYPE=image/webp:https://italyondisplay.it/wp-content/uploads/2025/07/Mohini-Dey-scaled.webp
END:VEVENT
BEGIN:VEVENT
DTSTART;VALUE=DATE:20250619
DTEND;VALUE=DATE:20250625
DTSTAMP:20260421T190740
CREATED:20250615T051559Z
LAST-MODIFIED:20250615T051907Z
UID:10000040-1750291200-1750809599@italyondisplay.it
SUMMARY:CELEBRAZIONI DEL SANTO PATRONO
DESCRIPTION:La capitale sabauda celebra San Giovanni\, il suo santo patrono\, con un ricco calendario di appuntamenti tra musica\, tradizione\, spiritualità\, spettacolo e storia
URL:https://italyondisplay.it/event/celebrazioni-del-santo-patrono/
LOCATION:TORINO CENTRO STORICO |\, Piazza Castello\, Torino\, Piemonte\, Italy
CATEGORIES:Tradizioni & rievocazioni storiche
ATTACH;FMTTYPE=image/webp:https://italyondisplay.it/wp-content/uploads/2025/06/Torino-scaled-e1749971931822.webp
END:VEVENT
BEGIN:VEVENT
DTSTART;VALUE=DATE:20250603
DTEND;VALUE=DATE:20250614
DTSTAMP:20260421T190740
CREATED:20250602T053712Z
LAST-MODIFIED:20250602T053712Z
UID:10000034-1748908800-1749859199@italyondisplay.it
SUMMARY:PASSEPARTOUT
DESCRIPTION:Nella città di Vittorio Alfieri torna uno dei più quotati appuntamenti nazionali con la cultura
URL:https://italyondisplay.it/event/passepartout/
LOCATION:BIBLIOTECA ASTENSE |\, Via Goltieri 3\, Asti\, Piemonte\, Italy
CATEGORIES:Lifestyle
ATTACH;FMTTYPE=image/webp:https://italyondisplay.it/wp-content/uploads/2025/06/PASSEPARTOUT-ASTI-Alberto-Angela.webp
END:VEVENT
BEGIN:VEVENT
DTSTART;VALUE=DATE:20250523
DTEND;VALUE=DATE:20250526
DTSTAMP:20260421T190740
CREATED:20250322T145911Z
LAST-MODIFIED:20250618T021425Z
UID:10000005-1747958400-1748217599@italyondisplay.it
SUMMARY:FESTIVAL DELLA TV E DEI NUOVI MEDIA
DESCRIPTION:Torna l’evento dedicato alle grandi trasmissioni di successo e ai nuovi esperimenti di comunicazione.
URL:https://italyondisplay.it/event/festival-della-tv-e-dei-nuovi-media/
LOCATION:DOGLIANI CENTRO STORICO |\, Dogliani\, Piemonte\, Italy
CATEGORIES:Cinema, Radio & tv
ATTACH;FMTTYPE=image/webp:https://italyondisplay.it/wp-content/uploads/2025/03/Festival-della-TV-e-dei-Nuovi-Media-e1750393858374.webp
END:VEVENT
BEGIN:VEVENT
DTSTART;VALUE=DATE:20250325
DTEND;VALUE=DATE:20250502
DTSTAMP:20260421T190740
CREATED:20250326T210740Z
LAST-MODIFIED:20250429T015607Z
UID:10000007-1742860800-1746143999@italyondisplay.it
SUMMARY:TULIPANI A CORTE AL CASTELLO REALE
DESCRIPTION:Si rinnova al Castello Reale “Tulipani a Corte”\, manifestazione giunta alla 25ª edizione con la splendida fioritura dei tulipani selvatici.
URL:https://italyondisplay.it/event/tulipani-a-corte-al-castello-reale/
LOCATION:CASTELLO REALE DI GOVONE |\, Piazza Roma 1\, Govone\, Piemonte\, Italy
CATEGORIES:Natura & viaggi
ATTACH;FMTTYPE=image/webp:https://italyondisplay.it/wp-content/uploads/2025/03/Tulipani-a-Corte-by-castellorealedigovone.it_-e1743367563290.webp
END:VEVENT
BEGIN:VEVENT
DTSTART;VALUE=DATE:20250226
DTEND;VALUE=DATE:20250616
DTSTAMP:20260421T190740
CREATED:20250504T050935Z
LAST-MODIFIED:20250617T024552Z
UID:10000026-1740528000-1750031999@italyondisplay.it
SUMMARY:THE ART OF JAMES CAMERON
DESCRIPTION:Il Museo Nazionale del Cinema celebra il genio creativo di James Cameron\, uno dei più grandi registi\, sceneggiatori e produttori e contemporanei.
URL:https://italyondisplay.it/event/the-art-of-james-cameron/
LOCATION:MUSEO NAZIONALE DEL CINEMA |\, Via Montebello 20\, Torino\, Piemonte\, Italy
CATEGORIES:Cinema, Radio & tv
ATTACH;FMTTYPE=image/webp:https://italyondisplay.it/wp-content/uploads/2025/05/The-art-of-James-Cameron-Torino.webp
END:VEVENT
END:VCALENDAR